

BEGIN:VCALENDAR
VERSION:2.0
PRODID:-//Foster School of Business - ECPv6.15.17.1//NONSGML v1.0//EN
CALSCALE:GREGORIAN
METHOD:PUBLISH
X-WR-CALNAME:Foster School of Business
X-ORIGINAL-URL:https://foster.uw.edu
X-WR-CALDESC:Events for Foster School of Business
REFRESH-INTERVAL;VALUE=DURATION:PT1H
X-Robots-Tag:noindex
X-PUBLISHED-TTL:PT1H
BEGIN:VTIMEZONE
TZID:America/Los_Angeles
BEGIN:DAYLIGHT
TZOFFSETFROM:-0800
TZOFFSETTO:-0700
TZNAME:PDT
DTSTART:20240310T100000
END:DAYLIGHT
BEGIN:STANDARD
TZOFFSETFROM:-0700
TZOFFSETTO:-0800
TZNAME:PST
DTSTART:20241103T090000
END:STANDARD
BEGIN:DAYLIGHT
TZOFFSETFROM:-0800
TZOFFSETTO:-0700
TZNAME:PDT
DTSTART:20250309T100000
END:DAYLIGHT
BEGIN:STANDARD
TZOFFSETFROM:-0700
TZOFFSETTO:-0800
TZNAME:PST
DTSTART:20251102T090000
END:STANDARD
BEGIN:DAYLIGHT
TZOFFSETFROM:-0800
TZOFFSETTO:-0700
TZNAME:PDT
DTSTART:20260308T100000
END:DAYLIGHT
BEGIN:STANDARD
TZOFFSETFROM:-0700
TZOFFSETTO:-0800
TZNAME:PST
DTSTART:20261101T090000
END:STANDARD
BEGIN:DAYLIGHT
TZOFFSETFROM:-0800
TZOFFSETTO:-0700
TZNAME:PDT
DTSTART:20270314T100000
END:DAYLIGHT
BEGIN:STANDARD
TZOFFSETFROM:-0700
TZOFFSETTO:-0800
TZNAME:PST
DTSTART:20271107T090000
END:STANDARD
END:VTIMEZONE
BEGIN:VEVENT
DTSTART;TZID=America/Los_Angeles:20260401T123000
DTEND;TZID=America/Los_Angeles:20260401T150000
DTSTAMP:20260422T191850
CREATED:20250925T204841Z
LAST-MODIFIED:20250925T205139Z
UID:105698-1775046600-1775055600@foster.uw.edu
SUMMARY:Augment Your Executive Presence
DESCRIPTION:Executive presence helps us to be compelling and engaging in our communications\, driving action\, and inspiring those around you. In this workshop you will learn ways to control delivery for dynamic presenting\, and strategies to improve confidence\, comfort\, and control in any presentation environment. \nLive Online \nLearn More
URL:https://foster.uw.edu/event/augment-your-executive-presence-april2026/
CATEGORIES:Executive Education
ATTACH;FMTTYPE=image/jpeg:https://foster.uw.edu/wp-content/uploads/2022/03/executive-presence.jpg
END:VEVENT
BEGIN:VEVENT
DTSTART;TZID=America/Los_Angeles:20260304T123000
DTEND;TZID=America/Los_Angeles:20260304T150000
DTSTAMP:20260422T191850
CREATED:20250925T213936Z
LAST-MODIFIED:20250925T215541Z
UID:105748-1772627400-1772636400@foster.uw.edu
SUMMARY:Managing Tough Conversations
DESCRIPTION:Learn and practice reflective listening strategies\, as well as how to ask open-ended\, high-value questions to ensure alignment with others\, uncover motivation\, and create engagement. You will practice how to manage difficult conversations and consider strategies for maintaining the relationship after the conversation occurs. \nLive Online \nLearn More
URL:https://foster.uw.edu/event/managing-tough-conversations-march2026/
CATEGORIES:Executive Education
ATTACH;FMTTYPE=image/png:https://foster.uw.edu/wp-content/uploads/2025/03/Managing-Tough-Conversations.png
END:VEVENT
BEGIN:VEVENT
DTSTART;VALUE=DATE:20260203
DTEND;VALUE=DATE:20260204
DTSTAMP:20260422T191850
CREATED:20250625T173029Z
LAST-MODIFIED:20260226T213921Z
UID:99867-1770076800-1770163199@foster.uw.edu
SUMMARY:Business Management Certificate
DESCRIPTION:The Business Management Certificate is a four-month program that curates key business principles and leadership skills for advancing your career. It is ideal for early and mid-career professionals who want to lead projects and teams more effectively. This accelerated program will help you gain new skills and expand your professional network\, adding to your competitive edge and adaptivity to today’s economy. \nNew track available for family businesses \nLearn More
URL:https://foster.uw.edu/event/business-management-certificate/
CATEGORIES:Executive Education
ATTACH;FMTTYPE=image/jpeg:https://foster.uw.edu/wp-content/uploads/2020/09/bmc-homepage.jpg
END:VEVENT
BEGIN:VEVENT
DTSTART;VALUE=DATE:20251210
DTEND;VALUE=DATE:20251212
DTSTAMP:20260422T191850
CREATED:20250925T214739Z
LAST-MODIFIED:20250925T214926Z
UID:105753-1765324800-1765497599@foster.uw.edu
SUMMARY:Strategic Communications and Negotiations
DESCRIPTION:Learn proven techniques and approaches to successful negotiations. Participants will engage in negotiation simulations to practice the concepts taught in the program. \nIn-person | UW Seattle Campus \nLearn More
URL:https://foster.uw.edu/event/strategic-communications-and-negotiations-dec2025/
CATEGORIES:Executive Education
ATTACH;FMTTYPE=image/png:https://foster.uw.edu/wp-content/uploads/2018/11/seminars-negotiations-hero2.png
END:VEVENT
BEGIN:VEVENT
DTSTART;VALUE=DATE:20251209
DTEND;VALUE=DATE:20251210
DTSTAMP:20260422T191850
CREATED:20250807T225143Z
LAST-MODIFIED:20250925T215709Z
UID:101541-1765238400-1765324799@foster.uw.edu
SUMMARY:Soft Skills Workshop
DESCRIPTION:Complement your existing technical hard skills with soft skills. Learn how to understand and adjust to different communication styles\, work effectively in teams\, and elevate your power of influence. \nIn-person \nLearn More
URL:https://foster.uw.edu/event/soft-skills-workshop-12-2025/
CATEGORIES:Executive Education
ATTACH;FMTTYPE=image/png:https://foster.uw.edu/wp-content/uploads/2016/11/Hero_TwoMen.png
END:VEVENT
BEGIN:VEVENT
DTSTART;VALUE=DATE:20251119
DTEND;VALUE=DATE:20251120
DTSTAMP:20260422T191850
CREATED:20250925T223729Z
LAST-MODIFIED:20250925T223729Z
UID:105774-1763510400-1763596799@foster.uw.edu
SUMMARY:Writing for Executive Engagement
DESCRIPTION:Learn to write to immediately capture attention\, drive clarity with your reader\, and deliver on any next steps and actions. This workshop touches on common written communications to key stakeholders including program reviews\, executive summaries\, and emails requesting action. In addition\, we discuss the pros and cons of artificial intelligence and when it can be useful in articulating your message. \nLive Online \nLearn More
URL:https://foster.uw.edu/event/writing-for-executive-engagement-may2026/
CATEGORIES:Executive Education
ATTACH;FMTTYPE=image/jpeg:https://foster.uw.edu/wp-content/uploads/2022/03/writing-for-exec-engagement.jpg
END:VEVENT
BEGIN:VEVENT
DTSTART;VALUE=DATE:20251118
DTEND;VALUE=DATE:20251120
DTSTAMP:20260422T191850
CREATED:20250805T221413Z
LAST-MODIFIED:20250925T215730Z
UID:101357-1763424000-1763596799@foster.uw.edu
SUMMARY:Soft Skills Workshop
DESCRIPTION:Complement your existing technical hard skills with soft skills. Learn how to understand and adjust to different communication styles\, work effectively in teams\, and elevate your power of influence. \nLive Online \nLearn More
URL:https://foster.uw.edu/event/soft-skills-workshop/
CATEGORIES:Executive Education
ATTACH;FMTTYPE=image/png:https://foster.uw.edu/wp-content/uploads/2016/11/Hero_TwoMen.png
END:VEVENT
BEGIN:VEVENT
DTSTART;VALUE=DATE:20251106
DTEND;VALUE=DATE:20251108
DTSTAMP:20260422T191850
CREATED:20250805T221033Z
LAST-MODIFIED:20250925T224516Z
UID:101355-1762387200-1762559999@foster.uw.edu
SUMMARY:Women Board Directors Development Program
DESCRIPTION:Boards are actively seeking qualified women to diversify their decision-making and improve their business results. Learn how to become a more influential board member\, move from a non-profit to a for-profit board\, or serve on the board of larger organizations. This seminar is open to all genders. \nIn-person | UW Seattle Campus \nLearn More
URL:https://foster.uw.edu/event/women-board-directors-development-program/
CATEGORIES:Executive Education
ATTACH;FMTTYPE=image/png:https://foster.uw.edu/wp-content/uploads/2015/01/seminars-women-on-boards-hero.png
END:VEVENT
BEGIN:VEVENT
DTSTART;TZID=America/Los_Angeles:20251029T123000
DTEND;TZID=America/Los_Angeles:20251029T150000
DTSTAMP:20260422T191850
CREATED:20250805T220739Z
LAST-MODIFIED:20250925T205041Z
UID:101352-1761741000-1761750000@foster.uw.edu
SUMMARY:Augment Your Executive Presence
DESCRIPTION:Executive presence helps us to be compelling and engaging in our communications\, driving action\, and inspiring those around you. In this workshop you will learn ways to control delivery for dynamic presenting\, and strategies to improve confidence\, comfort\, and control in any presentation environment. \nLive Online \nLearn More
URL:https://foster.uw.edu/event/augment-your-executive-presence/
CATEGORIES:Executive Education
ATTACH;FMTTYPE=image/jpeg:https://foster.uw.edu/wp-content/uploads/2022/03/executive-presence.jpg
END:VEVENT
BEGIN:VEVENT
DTSTART;VALUE=DATE:20251008
DTEND;VALUE=DATE:20251009
DTSTAMP:20260422T191850
CREATED:20250805T220402Z
LAST-MODIFIED:20250925T215748Z
UID:101350-1759881600-1759967999@foster.uw.edu
SUMMARY:Storytelling with Data
DESCRIPTION:This interactive workshop teaches professionals how to transform complex data into compelling narratives that influence stakeholders and drive decision-making\, offering practical frameworks and techniques particularly valuable for managers and directors who regularly present to senior leadership. \nLive Online \nLearn More
URL:https://foster.uw.edu/event/storytelling-with-data/
CATEGORIES:Executive Education
ATTACH;FMTTYPE=image/jpeg:https://foster.uw.edu/wp-content/uploads/2025/03/Storytelling_850x450_heroimage.jpg
END:VEVENT
BEGIN:VEVENT
DTSTART;VALUE=DATE:20250915
DTEND;VALUE=DATE:20250918
DTSTAMP:20260422T191850
CREATED:20250805T215651Z
LAST-MODIFIED:20250805T215651Z
UID:101346-1757894400-1758153599@foster.uw.edu
SUMMARY:Finance and Accounting for Non-Financial Executives
DESCRIPTION:Learn to interpret and analyze financial data\, communicate financial information\, and evaluate corporate performance. \nIn-person | UW Seattle Campus \nLearn More
URL:https://foster.uw.edu/event/finance-and-accounting-for-non-financial-executives/
CATEGORIES:Executive Education
ATTACH;FMTTYPE=image/jpeg:https://foster.uw.edu/wp-content/uploads/2014/12/Hero_MBEPhome1.jpg
END:VEVENT
BEGIN:VEVENT
DTSTART;VALUE=DATE:20250909
DTEND;VALUE=DATE:20250911
DTSTAMP:20260422T191850
CREATED:20250805T212039Z
LAST-MODIFIED:20250806T185734Z
UID:101336-1757376000-1757548799@foster.uw.edu
SUMMARY:Strategic Communications and Negotiations
DESCRIPTION:Learn proven techniques and approaches to successful negotiations. Participants will engage in negotiation simulations to practice the concepts taught in the program. \nIn-person | UW Seattle Campus \nLearn More
URL:https://foster.uw.edu/event/strategic-communications-and-negotiations/
CATEGORIES:Executive Education
ATTACH;FMTTYPE=image/png:https://foster.uw.edu/wp-content/uploads/2018/11/seminars-negotiations-hero2.png
END:VEVENT
BEGIN:VEVENT
DTSTART;VALUE=DATE:20250909
DTEND;VALUE=DATE:20250910
DTSTAMP:20260422T191850
CREATED:20250805T211417Z
LAST-MODIFIED:20250805T220818Z
UID:101334-1757376000-1757462399@foster.uw.edu
SUMMARY:Managing Tough Conversations
DESCRIPTION:Learn and practice reflective listening strategies\, as well as how to ask open-ended\, high-value questions to ensure alignment with others\, uncover motivation\, and create engagement. You will practice how to manage difficult conversations and consider strategies for maintaining the relationship after the conversation occurs. \nLive Online \nLearn More
URL:https://foster.uw.edu/event/managing-tough-conversations/
CATEGORIES:Executive Education
ATTACH;FMTTYPE=image/png:https://foster.uw.edu/wp-content/uploads/2025/03/Managing-Tough-Conversations.png
END:VEVENT
BEGIN:VEVENT
DTSTART;VALUE=DATE:20250804
DTEND;VALUE=DATE:20250816
DTSTAMP:20260422T191850
CREATED:20250805T205048Z
LAST-MODIFIED:20250805T213153Z
UID:101320-1754265600-1755302399@foster.uw.edu
SUMMARY:Global Bankers Program
DESCRIPTION:Alongside a network of leaders from global financial sectors\, build a better understanding of international financial markets\, gain a multicultural perspective on global banking issues\, and study risk management in the ever-changing banking industry. \nIn-person | Two weeks at UW Seattle campus \nLearn More
URL:https://foster.uw.edu/event/global-bankers-program/
CATEGORIES:Executive Education
END:VEVENT
END:VCALENDAR