

BEGIN:VCALENDAR
VERSION:2.0
PRODID:-//Foster School of Business - ECPv6.15.17.1//NONSGML v1.0//EN
CALSCALE:GREGORIAN
METHOD:PUBLISH
X-WR-CALNAME:Foster School of Business
X-ORIGINAL-URL:https://foster.uw.edu
X-WR-CALDESC:Events for Foster School of Business
REFRESH-INTERVAL;VALUE=DURATION:PT1H
X-Robots-Tag:noindex
X-PUBLISHED-TTL:PT1H
BEGIN:VTIMEZONE
TZID:America/Los_Angeles
BEGIN:DAYLIGHT
TZOFFSETFROM:-0800
TZOFFSETTO:-0700
TZNAME:PDT
DTSTART:20250309T100000
END:DAYLIGHT
BEGIN:STANDARD
TZOFFSETFROM:-0700
TZOFFSETTO:-0800
TZNAME:PST
DTSTART:20251102T090000
END:STANDARD
BEGIN:DAYLIGHT
TZOFFSETFROM:-0800
TZOFFSETTO:-0700
TZNAME:PDT
DTSTART:20260308T100000
END:DAYLIGHT
BEGIN:STANDARD
TZOFFSETFROM:-0700
TZOFFSETTO:-0800
TZNAME:PST
DTSTART:20261101T090000
END:STANDARD
BEGIN:DAYLIGHT
TZOFFSETFROM:-0800
TZOFFSETTO:-0700
TZNAME:PDT
DTSTART:20270314T100000
END:DAYLIGHT
BEGIN:STANDARD
TZOFFSETFROM:-0700
TZOFFSETTO:-0800
TZNAME:PST
DTSTART:20271107T090000
END:STANDARD
BEGIN:DAYLIGHT
TZOFFSETFROM:-0800
TZOFFSETTO:-0700
TZNAME:PDT
DTSTART:20280312T100000
END:DAYLIGHT
BEGIN:STANDARD
TZOFFSETFROM:-0700
TZOFFSETTO:-0800
TZNAME:PST
DTSTART:20281105T090000
END:STANDARD
END:VTIMEZONE
BEGIN:VEVENT
DTSTART;VALUE=DATE:20260903
DTEND;VALUE=DATE:20270528
DTSTAMP:20260420T030025
CREATED:20250625T172446Z
LAST-MODIFIED:20260226T214840Z
UID:99864-1788393600-1811462399@foster.uw.edu
SUMMARY:Executive Development Program
DESCRIPTION:EDP is an accelerated alternative to an MBA degree. This work-compatible certificate program is designed for busy professionals who want to access advanced business knowledge without the time or financial commitment of a traditional MBA degree program. \nLearn More
URL:https://foster.uw.edu/event/executive-development-program/
CATEGORIES:Executive Education
ATTACH;FMTTYPE=image/jpeg:https://foster.uw.edu/wp-content/uploads/2018/08/exec-ed-quad.jpg
END:VEVENT
BEGIN:VEVENT
DTSTART;VALUE=DATE:20261015
DTEND;VALUE=DATE:20270403
DTSTAMP:20260420T030025
CREATED:20250805T210336Z
LAST-MODIFIED:20260226T215348Z
UID:101324-1792022400-1806710399@foster.uw.edu
SUMMARY:Cybersecurity Leadership Program
DESCRIPTION:This program equips experienced cybersecurity professionals with the skills to align security initiatives with business objectives\, lead high-performing teams\, and communicate effectively at the C-suite level. Gain the strategic thinking and business acumen needed to advance from technical expert to executive leader. \nLive Online | Wednesday evenings | Includes two in-person immersions at UW Seattle campus \nLearn More
URL:https://foster.uw.edu/event/cybersecurity-leadership-program/
CATEGORIES:Executive Education
ATTACH;FMTTYPE=image/png:https://foster.uw.edu/wp-content/uploads/2025/03/Cybersecurity_850x450_heroimage.png
END:VEVENT
BEGIN:VEVENT
DTSTART;VALUE=DATE:20261104
DTEND;VALUE=DATE:20261106
DTSTAMP:20260420T030025
CREATED:20251215T220903Z
LAST-MODIFIED:20251215T220903Z
UID:108545-1793750400-1793923199@foster.uw.edu
SUMMARY:Women Board Directors Development Program
DESCRIPTION:Boards are actively seeking qualified women to diversify their decision-making and improve their business results. Learn how to become a more influential board member\, move from a non-profit to a for-profit board\, or serve on the board of larger organizations. This seminar is open to all genders. \nIn-person | UW Seattle Campus \nLearn More
URL:https://foster.uw.edu/event/women-board-directors-development-program-nov2026/
CATEGORIES:Executive Education
ATTACH;FMTTYPE=image/png:https://foster.uw.edu/wp-content/uploads/2015/01/seminars-women-on-boards-hero.png
END:VEVENT
BEGIN:VEVENT
DTSTART;TZID=America/Los_Angeles:20261117T080000
DTEND;TZID=America/Los_Angeles:20261117T163000
DTSTAMP:20260420T030025
CREATED:20251215T221933Z
LAST-MODIFIED:20251215T221933Z
UID:108550-1794902400-1794933000@foster.uw.edu
SUMMARY:Soft Skills Workshop
DESCRIPTION:Complement your existing technical hard skills with soft skills. Learn how to understand and adjust to different communication styles\, work effectively in teams\, and elevate your power of influence. \nLive Online \nLearn More
URL:https://foster.uw.edu/event/soft-skills-workshop-fall2026/
CATEGORIES:Executive Education
ATTACH;FMTTYPE=image/png:https://foster.uw.edu/wp-content/uploads/2016/11/Hero_TwoMen.png
END:VEVENT
BEGIN:VEVENT
DTSTART;TZID=America/Los_Angeles:20261117T123000
DTEND;TZID=America/Los_Angeles:20261117T150000
DTSTAMP:20260420T030025
CREATED:20251215T221507Z
LAST-MODIFIED:20251215T221507Z
UID:108547-1794918600-1794927600@foster.uw.edu
SUMMARY:Writing for Executive Engagement
DESCRIPTION:Learn to write to immediately capture attention\, drive clarity with your reader\, and deliver on any next steps and actions. This workshop touches on common written communications to key stakeholders including program reviews\, executive summaries\, and emails requesting action. In addition\, we discuss the pros and cons of artificial intelligence and when it can be useful in articulating your message. \nLive Online \nLearn More
URL:https://foster.uw.edu/event/writing-for-executive-engagement-nov2026/
CATEGORIES:Executive Education
ATTACH;FMTTYPE=image/jpeg:https://foster.uw.edu/wp-content/uploads/2022/03/writing-for-exec-engagement.jpg
END:VEVENT
END:VCALENDAR